BEGIN:VCALENDAR
VERSION:2.0
PRODID:-//https://www.plateaupicard.fr///NONSGML kigkonsult.se iCalcreator 2.10.15//
METHOD:PUBLISH
BEGIN:VEVENT
UID:20260426T043243CEST-60195oRCNV@https://www.plateaupicard.fr/
DTSTAMP:20260426T023243Z
DESCRIPTION:Lieu : Ecole de Musique\nEveil Musical Mercredi 11h/11h45Jardin
  Musical Jeudi 17h30/18h00 18h00/18h30Chorale Enfants Mardi 17h30/18h30 ht
 tps://www.plateaupicard.fr/tous-les-evenements/evenement/38587-atelier-eve
 il-jardin-musical-et-chorale-enfants
DTSTART:20261231T181440Z
DTEND:20261231T225740Z
LOCATION:Saint-Just-en-Chaussée (60130 Saint-Just-en-Chaussée\, France)
SUMMARY:Atelier Eveil/jardin musical et chorale enfants
URL:https://www.plateaupicard.fr/tous-les-evenements/evenement/38587-atelie
 r-eveil-jardin-musical-et-chorale-enfants
END:VEVENT
END:VCALENDAR
