BEGIN:VCALENDAR
VERSION:2.0
PRODID:-//https://www.plateaupicard.fr///NONSGML kigkonsult.se iCalcreator 2.10.15//
METHOD:PUBLISH
BEGIN:VEVENT
UID:20260426T042950CEST-7505CtGSI5@https://www.plateaupicard.fr/
DTSTAMP:20260426T022950Z
DESCRIPTION:Brocante place des fêtes de Tricot\nDe 6h30 à 18h30\nRestaurati
 on sur place\nRenseignements linarda@orange.fr https://www.plateaupicard.f
 r/tous-les-evenements/evenement/40033-brocante
DTSTART:20260501T043005Z
DTEND:20260501T170005Z
LOCATION:Tricot (60420 Tricot\, France)
SUMMARY:Brocante
URL:https://www.plateaupicard.fr/tous-les-evenements/evenement/40033-brocan
 te
END:VEVENT
END:VCALENDAR
