BEGIN:VCALENDAR
VERSION:2.0
PRODID:-//https://www.plateaupicard.fr///NONSGML kigkonsult.se iCalcreator 2.10.15//
METHOD:PUBLISH
BEGIN:VEVENT
UID:20260426T042954CEST-9703tbkRbv@https://www.plateaupicard.fr/
DTSTAMP:20260426T022954Z
DESCRIPTION:Exposition de tableaux floraux par Tatiana Lashchenkova à la mé
 diathèque Anne Frank de St Just en chaussée. Visite aux horaires d'ouvertu
 re. https://www.plateaupicard.fr/tous-les-evenements/evenement/40094-expos
 ition-le-temps-de-lepanouissement
DTSTART:20260401T070000Z
DTEND:20260425T143000Z
LOCATION:Saint Just en Chaussée (60130 Saint-Just-en-Chaussée\, France)
SUMMARY:Exposition 'Le temps de l'épanouissement'
URL:https://www.plateaupicard.fr/tous-les-evenements/evenement/40094-exposi
 tion-le-temps-de-lepanouissement
END:VEVENT
END:VCALENDAR
