BEGIN:VCALENDAR
VERSION:2.0
PRODID:-//https://www.plateaupicard.fr///NONSGML kigkonsult.se iCalcreator 2.10.15//
METHOD:PUBLISH
BEGIN:VEVENT
UID:20260426T043432CEST-2618o93wid@https://www.plateaupicard.fr/
DTSTAMP:20260426T023432Z
DESCRIPTION:&nbsp\;\nPlace des fêtes.\nEntrée : 3 euros ( gratuit -12ans)&n
 bsp\;\nBalade : 11h30\n Cascades motos/titane team acrobatie : 15h et 17h3
 0\n Concert/Guns-for-illusion : 16h00\nNombreux stands\n buvette et restau
 rations  https://www.plateaupicard.fr/tous-les-evenements/evenement/40177-
 25eme-rassemblement-de-motos-voitures-us-et-cox-mery-la-bataille
DTSTART:20260517T070000Z
DTEND:20260517T180000Z
LOCATION:Méry-la-Bataille\, place des fêtes (60420 Méry-la-Bataille\, Franc
 e)
SUMMARY:25ème RASSEMBLEMENT DE MOTOS VOITURES US ET COX  MERY LA BATAILLE
URL:https://www.plateaupicard.fr/tous-les-evenements/evenement/40177-25eme-
 rassemblement-de-motos-voitures-us-et-cox-mery-la-bataille
END:VEVENT
END:VCALENDAR
