BEGIN:VCALENDAR
VERSION:2.0
PRODID:-//https://www.plateaupicard.fr///NONSGML kigkonsult.se iCalcreator 2.10.15//
METHOD:PUBLISH
BEGIN:VEVENT
UID:20260426T041152CEST-20656vWVKa@https://www.plateaupicard.fr/
DTSTAMP:20260426T021152Z
DESCRIPTION:Brocante&nbsp\; https://www.plateaupicard.fr/tous-les-evenement
 s/evenement/40511-brocante-leglantiers
DTSTART;VALUE=DATE:20260508
LOCATION:Léglantiers (60420 Léglantiers\, France)
SUMMARY:Brocante Léglantiers 
URL:https://www.plateaupicard.fr/tous-les-evenements/evenement/40511-brocan
 te-leglantiers
END:VEVENT
END:VCALENDAR
