BEGIN:VCALENDAR
VERSION:2.0
PRODID:-//https://www.plateaupicard.fr///NONSGML kigkonsult.se iCalcreator 2.10.15//
METHOD:PUBLISH
BEGIN:VEVENT
UID:20260426T042130CEST-8272eehrel@https://www.plateaupicard.fr/
DTSTAMP:20260426T022130Z
DESCRIPTION:L'Association Un Avenir pour le Château de Maignelay-Montigny o
 rganise sa 3e exposition artisanale de Noël le samedi 12 décembre 2026 de 
 10h à 20h à Maignelay-Montigny.\nNous recherchons des exposants : producte
 urs\, créateurs\, artisans\, artistes\, associations\, ...\nContacts et re
 nseignements : 06 03 31 20 68 ou 06 20 94 66 66 (laisser votre message)\na
 venir.chateau.maignelay@gmail.com https://www.plateaupicard.fr/tous-les-ev
 enements/evenement/40512-3e-exposition-artisanale-de-noel-du-12-decembre-2
 026-recherche-exposants
DTSTART:20261211T230000Z
DTEND:20261212T225700Z
LOCATION:Maignelay-Montigny (60420 Maignelay-Montigny\, France)
SUMMARY:3e exposition artisanale de Noël du 12 décembre 2026 - Recherche ex
 posants
URL:https://www.plateaupicard.fr/tous-les-evenements/evenement/40512-3e-exp
 osition-artisanale-de-noel-du-12-decembre-2026-recherche-exposants
END:VEVENT
END:VCALENDAR
