BEGIN:VCALENDAR
VERSION:2.0
PRODID:-//https://www.plateaupicard.fr///NONSGML kigkonsult.se iCalcreator 2.10.15//
METHOD:PUBLISH
BEGIN:VEVENT
UID:20260426T041939CEST-0563VUk7uI@https://www.plateaupicard.fr/
DTSTAMP:20260426T021939Z
DESCRIPTION:Organisée par l'ASELLE. Marche d'environ 2h00 dans les chemins 
 alentours de Lieuvillers.Rendez-vous à 9h00 pour un départ à 9h30.Suivi au
  retour d'un moment de convivialité.Inscription gratuite. https://www.plat
 eaupicard.fr/tous-les-evenements/evenement/40551-randonnee-autour-de-lieuv
 illers
DTSTART:20260517T070000Z
DTEND:20260517T110000Z
LOCATION:lieuvillers\, salle polyvalente (60130 Lieuvillers\, France)
SUMMARY:Randonnée autour de Lieuvillers
URL:https://www.plateaupicard.fr/tous-les-evenements/evenement/40551-randon
 nee-autour-de-lieuvillers
END:VEVENT
END:VCALENDAR
