BEGIN:VCALENDAR
VERSION:2.0
PRODID:-//https://www.plateaupicard.fr///NONSGML kigkonsult.se iCalcreator 2.10.15//
METHOD:PUBLISH
BEGIN:VEVENT
UID:20260426T041337CEST-3817I8mzHp@https://www.plateaupicard.fr/
DTSTAMP:20260426T021337Z
DESCRIPTION:Venez découvrir lors de l'exposition 'Les géants' à la médiathè
 que Anne Frank de St Just en chaussée\, les photographies de Bertrand Desp
 rez. Visible aux horaires d'ouverture de la médiathèque. https://www.plate
 aupicard.fr/tous-les-evenements/evenement/40591-des-hommes-et-des-geants
DTSTART:20260505T070000Z
DTEND:20260530T143000Z
LOCATION:Saint Just en Chaussée (60130 Saint-Just-en-Chaussée\, France)
SUMMARY:'Des hommes et des géants'
URL:https://www.plateaupicard.fr/tous-les-evenements/evenement/40591-des-ho
 mmes-et-des-geants
END:VEVENT
END:VCALENDAR
