BEGIN:VCALENDAR
VERSION:2.0
PRODID:-//https://www.plateaupicard.fr///NONSGML kigkonsult.se iCalcreator 2.10.15//
METHOD:PUBLISH
BEGIN:VEVENT
UID:20260426T040927CEST-9452n8paCe@https://www.plateaupicard.fr/
DTSTAMP:20260426T020927Z
DESCRIPTION:2ème temps fort de l'exposition 'Les géants' à la médiathèque A
 nne Frank de St Just en chaussée\, venez assister au film de Marie-France 
 Annasse précédé de son court-métrage 'Les géants d'Ayyanar'.Gratuit et tou
 t public ! https://www.plateaupicard.fr/tous-les-evenements/evenement/4059
 2-le-facteur-de-geants
DTSTART:20260506T180000Z
DTEND:20260506T200000Z
LOCATION:Saint Just en Chaussée (60130 Saint-Just-en-Chaussée\, France)
SUMMARY:'Le facteur de géants'
URL:https://www.plateaupicard.fr/tous-les-evenements/evenement/40592-le-fac
 teur-de-geants
END:VEVENT
END:VCALENDAR
