BEGIN:VCALENDAR
VERSION:2.0
PRODID:-//https://www.plateaupicard.fr///NONSGML kigkonsult.se iCalcreator 2.10.15//
METHOD:PUBLISH
BEGIN:VEVENT
UID:20260426T040836CEST-3627dJn9wm@https://www.plateaupicard.fr/
DTSTAMP:20260426T020836Z
DESCRIPTION:1er temps fort de l'exposition 'Les géants' à la médiathèque An
 ne Frank de St Just en chaussée\, venez participer à la création collectif
  d'un géant pour la ville de St Just !Gratuit et tout public ! https://www
 .plateaupicard.fr/tous-les-evenements/evenement/40593-creation-du-geant-de
 -saint-just-en-chaussee
DTSTART:20260506T123000Z
DTEND:20260506T143000Z
LOCATION:Saint Just en Chaussée (60130 Saint-Just-en-Chaussée\, France)
SUMMARY:'Création du géant de Saint Just en chaussée'
URL:https://www.plateaupicard.fr/tous-les-evenements/evenement/40593-creati
 on-du-geant-de-saint-just-en-chaussee
END:VEVENT
END:VCALENDAR
