BEGIN:VCALENDAR
VERSION:2.0
PRODID:-//https://www.plateaupicard.fr///NONSGML kigkonsult.se iCalcreator 2.10.15//
METHOD:PUBLISH
BEGIN:VEVENT
UID:20260426T040836CEST-4962UBgTue@https://www.plateaupicard.fr/
DTSTAMP:20260426T020836Z
DESCRIPTION: https://www.plateaupicard.fr/tous-les-evenements/evenement/405
 94-le-violoncelle-soigne-lame
DTSTART:20260601T180000Z
DTEND:20260601T200000Z
LOCATION:Salle des fêtes de Saint Just en Chaussée (60130 Saint-Just-en-Cha
 ussée\, France)
SUMMARY:'Le violoncelle soigne l'âme'
URL:https://www.plateaupicard.fr/tous-les-evenements/evenement/40594-le-vio
 loncelle-soigne-lame
END:VEVENT
END:VCALENDAR
