BEGIN:VCALENDAR
VERSION:2.0
PRODID:-//https://www.plateaupicard.fr///NONSGML kigkonsult.se iCalcreator 2.10.15//
METHOD:PUBLISH
BEGIN:VEVENT
UID:20260426T042945CEST-9981MKsVSJ@https://www.plateaupicard.fr/
DTSTAMP:20260426T022945Z
DESCRIPTION:Concert organisé par l'Association Ravenelloise pour la Protect
 ion de l'Eglise.\nSalle des marroniers - 60130 RAVENEL\nEntrée 8 euros htt
 ps://www.plateaupicard.fr/tous-les-evenements/evenement/40617-multi-voix-s
 e-met-sur-son-80-salle-des-marronniers-ravenel
DTSTART:20260607T140000Z
DTEND:20260607T160000Z
LOCATION:Salle 'Le Marronnier' à Ravenel (Rue de Saint-Martin\, 60130 Raven
 el\, France)
SUMMARY:Multi Voix se met sur son 80 - Salle des marronniers RAVENEL
URL:https://www.plateaupicard.fr/tous-les-evenements/evenement/40617-multi-
 voix-se-met-sur-son-80-salle-des-marronniers-ravenel
END:VEVENT
END:VCALENDAR
