BEGIN:VCALENDAR
VERSION:2.0
PRODID:-//https://www.plateaupicard.fr///NONSGML kigkonsult.se iCalcreator 2.10.15//
METHOD:PUBLISH
BEGIN:VEVENT
UID:20260426T042245CEST-8824ZWWPMa@https://www.plateaupicard.fr/
DTSTAMP:20260426T022245Z
DESCRIPTION:\nL'Amicale des Sapeurs-Pompiers de Maignelay-Montigny vous ouv
 re ses portes ! Venez découvrir l’envers du décor et partager un moment co
 nvivial avec vos héros du quotidien.\n\n\n Quand ? Le samedi 9 MAI 2026\n 
 Horaires : De 10h à 18h\n Où ? Centre de Secours de Maignelay-Montigny\n&n
 bsp\;\n\n\n AU PROGRAMME POUR PETITS ET GRANDS :\n\n\n Démonstrations : Dé
 couvrez nos interventions en direct !\n Parcours 'Pompier Enfant' : Vos pe
 tits bouts pourront tester leur agilité.\n Histoire : Exposition de casque
 s anciens pour les passionnés.\n Grande Tombola : De nombreux lots à gagne
 r !\n Restauration sur place : Burgers\, frites et boissons pour reprendre
  des forces.\n&nbsp\;\n\n\n INVITÉ SPÉCIAL :\nPréparez vos appareils photo
 ... MARCUS de la Pat' Patrouille sera présent toute la journée pour rencon
 trer les enfants ! \n https://www.plateaupicard.fr/tous-les-evenements/eve
 nement/40618-journee-portes-ouvertes-au-centre-de-secours-de-maignelay-mon
 tigny
DTSTART;VALUE=DATE:20260509
LOCATION:Maignelay-Montigny (60420 Maignelay-Montigny\, France)
SUMMARY:Journée portes ouvertes au centre de secours de Maignelay-Montigny
URL:https://www.plateaupicard.fr/tous-les-evenements/evenement/40618-journe
 e-portes-ouvertes-au-centre-de-secours-de-maignelay-montigny
END:VEVENT
END:VCALENDAR
