BEGIN:VCALENDAR
VERSION:2.0
PRODID:-//https://www.plateaupicard.fr///NONSGML kigkonsult.se iCalcreator 2.10.15//
METHOD:PUBLISH
BEGIN:VEVENT
UID:20260426T041219CEST-0569V1z1tn@https://www.plateaupicard.fr/
DTSTAMP:20260426T021219Z
DESCRIPTION:organisé par l'Association Ambiance &amp\; Joie de Vivre. Ouver
 ture des portes à 12h00. Plus de 2000 euros en carte cadeau de 50\, 60\, 7
 0\, 80\, 100 et 200 euros. 23 tirages. Jeux annexes. Loto chinois. Tombola
 . 2 euros le carton. 10 euros les 6. 16 euros les 12. Buvette et restaurat
 ion. Tél 06 88 80 93 85 ou 03 44 78 64 42. https://www.plateaupicard.fr/to
 us-les-evenements/evenement/40645-loto-en-carte-cadeau
DTSTART:20260830T120000Z
DTEND:20260830T170000Z
LOCATION:Wavignies\, salle de l'Agora (45 Rue Lucien Sueur\, 60130 Wavignie
 s\, France)
SUMMARY:Loto en carte cadeau
URL:https://www.plateaupicard.fr/tous-les-evenements/evenement/40645-loto-e
 n-carte-cadeau
END:VEVENT
END:VCALENDAR
