BEGIN:VCALENDAR
VERSION:2.0
PRODID:-//https://www.plateaupicard.fr///NONSGML kigkonsult.se iCalcreator 2.10.15//
METHOD:PUBLISH
BEGIN:VEVENT
UID:20260426T042054CEST-1483um7ti7@https://www.plateaupicard.fr/
DTSTAMP:20260426T022054Z
DESCRIPTION:ORGANISEE PAR L'ASSOCIATION DES MARCHEURS ST JUSTOIS A HAUDIVIL
 LERS\nRDV POUR UN DEPART GROUPE PLACE DU GENERAL LECLERC A PARTIR DE 8H15 
 https://www.plateaupicard.fr/tous-les-evenements/evenement/40673-randonnee
 -pedestre-haudivillers
DTSTART:20260426T063000Z
DTEND:20260426T103000Z
LOCATION:saint-just-en-chaussée\, place du général Leclerc (Pl. du Gén Lecl
 erc\, 60130 Saint-Just-en-Chaussée\, France)
SUMMARY:RANDONNEE PEDESTRE HAUDIVILLERS
URL:https://www.plateaupicard.fr/tous-les-evenements/evenement/40673-randon
 nee-pedestre-haudivillers
END:VEVENT
END:VCALENDAR
