BEGIN:VCALENDAR
VERSION:2.0
PRODID:-//https://www.plateaupicard.fr///NONSGML kigkonsult.se iCalcreator 2.10.15//
METHOD:PUBLISH
BEGIN:VEVENT
UID:20260426T042413CEST-0998ODmnLS@https://www.plateaupicard.fr/
DTSTAMP:20260426T022413Z
DESCRIPTION:MOTOCROSS annuel sur le site 'La Montagne Blanche' proche de Va
 lescourt.\n200 PILOTES ENGAGÉS EN PLUSIEURS CATÉGORIES : 85CC\, 125CC\, 25
 0CC ET 450CC\nDe 8h à 18h\, le dimanche 6 septembre 2026 au Wheeling Club 
 St Justois\nDu beau spectacle\, un parking est prévu près du site ainsi qu
 'une buvette et de quoi vous restaurer sur place !\nDes WC et des espaces 
 herbées pour faire le tour du terrain et regarder au mieux les différentes
  courses.\n10€ l'entrée et gratuit pour les moins de 12 ans.\nUne tombola 
 sera mise en place pour gagner le maillot dédicacé de Cyril Génot (2ème à 
 l'enduropale du Touquet)\nSi vous souhaitez être bénévole à nos côtés sur 
 ce beau weekend\, contactez-nous par mail : wheelingclub@hotmail.com\n&nbs
 p\; https://www.plateaupicard.fr/tous-les-evenements/evenement/40699-motoc
 ross-championnat-de-ligue-hauts-de-france
DTSTART;VALUE=DATE:20260906
LOCATION:Saint-Just-en-Chaussée (60130 Saint-Just-en-Chaussée\, France)
SUMMARY:Motocross - Championnat de Ligue Hauts-de-France
URL:https://www.plateaupicard.fr/tous-les-evenements/evenement/40699-motocr
 oss-championnat-de-ligue-hauts-de-france
END:VEVENT
END:VCALENDAR
