BEGIN:VCALENDAR
VERSION:2.0
PRODID:-//https://www.plateaupicard.fr///NONSGML kigkonsult.se iCalcreator 2.10.15//
METHOD:PUBLISH
BEGIN:VEVENT
UID:20260426T041049CEST-8794ElKRWZ@https://www.plateaupicard.fr/
DTSTAMP:20260426T021049Z
DESCRIPTION:organisé par Ambiance &amp\; Joie de Vivre. Inscription dès 13h
 00 au tarif de 10 euros par joueur. Lots-cartes cadeau Leclerc de 90\, 70\
 , 50\, 40 et 30 euros respectivement à la 1ère\, 2ème\, 3ème\, 4ème et 5èm
 e équipe. Carte cadeau de 14 euros à toutes les équipes suivantes. Tombola
  en carte cadeau de 25\, 15 et 10 euros + 2 inscriptions gratuites pour le
 s prochains concours. Buvette et restauration. Renseignements au 06 88 80 
 93 85 ou 03 44 78 64 42 https://www.plateaupicard.fr/tous-les-evenements/e
 venement/40707-concours-de-belote-par-equipe
DTSTART:20260905T120000Z
DTEND:20260905T170000Z
LOCATION:Nourard-le-france\, salle multifonctions (60130 Nourard-le-Franc\,
  France)
SUMMARY:Concours de belote par équipe
URL:https://www.plateaupicard.fr/tous-les-evenements/evenement/40707-concou
 rs-de-belote-par-equipe
END:VEVENT
END:VCALENDAR
