BEGIN:VCALENDAR
VERSION:2.0
PRODID:-//https://www.plateaupicard.fr///NONSGML kigkonsult.se iCalcreator 2.10.15//
METHOD:PUBLISH
BEGIN:VEVENT
UID:20260426T042048CEST-40999avWW8@https://www.plateaupicard.fr/
DTSTAMP:20260426T022048Z
DESCRIPTION:&nbsp\;\nTerrain de foot rue du paradis moyenneville 60190\nEnt
 rée et Jeux gratuit tout âge&nbsp\;\nRestauration sur place midi et soir&n
 bsp\;\nActivités toute la journée\nle matin&nbsp\;\nBalade en vélo avec vi
 site de l'abbaye de&nbsp\; &nbsp\; &nbsp\; &nbsp\; &nbsp\; Saint Martin au
 x bois départ 9h00&nbsp\;\nTrail départ 10h00\, 17 et 11 kms inscription o
 bligatoire sur adeorun\nAprès-midi&nbsp\;\nJeux amusement\, airsoft enfant
 s et adultes\, structures gonflable\, dance hip hop (modanci laurine) et z
 umba\n18h30 tirage de la Tombola\n19h30 Concert live Franck Dores&nbsp\;\n
 23h00 feu d'artifice&nbsp\; https://www.plateaupicard.fr/tous-les-evenemen
 ts/evenement/40708-fete-du-sport-moyenneville
DTSTART;VALUE=DATE:20260524
LOCATION:Moyenneville (60190 Moyenneville\, France)
SUMMARY:Fête du sport Moyenneville 
URL:https://www.plateaupicard.fr/tous-les-evenements/evenement/40708-fete-d
 u-sport-moyenneville
END:VEVENT
END:VCALENDAR
