BEGIN:VCALENDAR
VERSION:2.0
PRODID:-//https://www.plateaupicard.fr///NONSGML kigkonsult.se iCalcreator 2.10.15//
METHOD:PUBLISH
BEGIN:VEVENT
UID:20260426T024459CEST-6516wspRId@https://www.plateaupicard.fr/
DTSTAMP:20260426T004459Z
DESCRIPTION:organisé par Ambiance et Joie de vivre. Au menu: Apéritif et se
 s amuse-bouche - Coq au vin &amp\; gratin dauphinois - Duo de fromage sur 
 son lit de salade - Dessert - Café. Show Mike Brant avec Mr Claude Arena (
 Sosie officiel) suivi d'une animation année 80 avec DJ Olivier. 40 euros p
 ar personne. 20 euros enfant de moins de 12 ans. (Boissons non comprises) 
 Réservation avant le 19 Avril 26. Tél 06 88 80 93 85 - 03 44 78 64 42. htt
 ps://www.plateaupicard.fr/tous-les-evenements/evenement/39246-repas-specta
 cle-mike-brant
DTSTART:20260425T100000Z
DTEND:20260425T160000Z
LOCATION:Wavignies\, salle de l'Agora (45 Rue Lucien Sueur\, 60130 Wavignie
 s\, France)
SUMMARY:Repas spectacle Mike Brant
URL:https://www.plateaupicard.fr/tous-les-evenements/evenement/39246-repas-
 spectacle-mike-brant
END:VEVENT
BEGIN:VEVENT
UID:20260426T024459CEST-6517Et3LUh@https://www.plateaupicard.fr/
DTSTAMP:20260426T004459Z
DESCRIPTION:UN EVENEMENT EXCEPTIONNEL&nbsp\; 87 CONCURENTS&nbsp\;\nRue de R
 otibecquet&nbsp\; à Saint Rémy En L'Eau\nENTREE GRATUITE\nFOOD TRUCK POUR 
 SE RESTAURER\nl'association SPORT' EDUC' CANIN&nbsp\;\nVous accueille pour
  des moments de partage et d'apprentissage !\nQue vous ayez un jeune chiot
  ou un chien adulte\, notre club propose de nombreuses activités\nvariées 
 pour l'éducation\, la socialisation et le développement de votre fidèle am
 i.\nEnvie de renforcer le lien avec votre compagnon à quatre pattes ?&nbsp
 \;\n- une variété d'activité : l'éducation de base avec les fondamentaux \
 ;\n- intégration de votre chien dans votre vie sociale : un chien bien dan
 s ses pattes\, partout et en toute situation \;\n- Certificat d'aptitude à
  l'éducation sociale&nbsp\; du chien \;\n- Initiation à l'agility....&nbsp
 \;\nPlus qu'un club \, une communauté !\n- infos sur la prévention des acc
 idents chiens-enfants\n- infos sur les 1ers secours canin \;&nbsp\;\n-Cani
 marche : Partagez des balades conviviales en pleine nature avec votre chie
 n et d'autres passionnés....&nbsp\; https://www.plateaupicard.fr/tous-les-
 evenements/evenement/40080-concours-dagility-officiel
DTSTART;VALUE=DATE:20260614
LOCATION:Saint-Rémy-en-l'Eau (60130 Saint-Remy-en-l'Eau\, France)
SUMMARY:Concours d'agility officiel  
URL:https://www.plateaupicard.fr/tous-les-evenements/evenement/40080-concou
 rs-dagility-officiel
END:VEVENT
BEGIN:VEVENT
UID:20260426T024459CEST-6518C5B5Tp@https://www.plateaupicard.fr/
DTSTAMP:20260426T004459Z
DESCRIPTION:\n\n\n\n\n&nbsp\;\n&nbsp\;\nLE FESTIVAL DE LA MUSIQUE FAIT SON 
 RETOUR CETTE ANNÉE AVEC UNE PROGRAMMATION EXCEPTIONNELLE.\nL’ENTRÉE&nbsp\;
 EST ENTIÈREMENT GRATUITE&nbsp\;.\n&nbsp\;Le Samedi 20 Juin 2026 de 17h à 0
 0h30\nSTADE GEORGES NORMAND MAIGNELAY MONTIGNY\n&nbsp\;\n&nbsp\;\n🎤 Artist
 es présents&nbsp\;\n\n\nVanupié (@vanupieofficiel)\n\n\nJinin (@jininoffic
 ial)\n\n\nNatty Jean (@nattyjeanofficial)\n\n\n&nbsp\;\n&nbsp\;FOOD TRUCK 
 ET BUVETTE SUR PLACE&nbsp\;\n&nbsp\;\n&nbsp\;📣 Partagez l’événement\nLIKE\
 , PARTAGE ET FAIS TOURNER L’INFO AUTOUR DE TOI POUR FAIRE RAYONNER LE FEST
 IVAL.\n&nbsp\;\n&nbsp\;L’association Modanci’L&nbsp\;proposera une perform
 ance vibrante placée sous le signe de la danse\n\n&nbsp\;\n&nbsp\; Prépare
 -toi à faire vibrer Maignelay-Montigny !! \n&nbsp\;\n&nbsp\;\n\n\n#fetedel
 amusique #vanupié #jinin #nattyjean #festival\n\n\n\n&nbsp\;\n&nbsp\; http
 s://www.plateaupicard.fr/tous-les-evenements/evenement/40497-maignelay-mon
 tigny-met-le-son-festival-de-la-musique-gratuit
DTSTART:20260620T150000Z
DTEND:20260620T223000Z
LOCATION:Maignelay-Montigny (60420 Maignelay-Montigny\, France)
SUMMARY:🎵✨ Maignelay‑Montigny met le son : Festival de la Musique gratuit 🎆
 🎉 
URL:https://www.plateaupicard.fr/tous-les-evenements/evenement/40497-maigne
 lay-montigny-met-le-son-festival-de-la-musique-gratuit
END:VEVENT
BEGIN:VEVENT
UID:20260426T024459CEST-6519BTGJtr@https://www.plateaupicard.fr/
DTSTAMP:20260426T004459Z
DESCRIPTION:Concert organisé par l'Association Ravenelloise pour la Protect
 ion de l'Eglise.\nSalle des marroniers - 60130 RAVENEL\nEntrée 8 euros htt
 ps://www.plateaupicard.fr/tous-les-evenements/evenement/40617-multi-voix-s
 e-met-sur-son-80-salle-des-marronniers-ravenel
DTSTART:20260607T140000Z
DTEND:20260607T160000Z
LOCATION:Salle 'Le Marronnier' à Ravenel (Rue de Saint-Martin\, 60130 Raven
 el\, France)
SUMMARY:Multi Voix se met sur son 80 - Salle des marronniers RAVENEL
URL:https://www.plateaupicard.fr/tous-les-evenements/evenement/40617-multi-
 voix-se-met-sur-son-80-salle-des-marronniers-ravenel
END:VEVENT
END:VCALENDAR
